BEGIN:VCALENDAR
VERSION:2.0
PRODID:-//Harvest Church - ECPv6.10.3//NONSGML v1.0//EN
CALSCALE:GREGORIAN
METHOD:PUBLISH
X-WR-CALNAME:Harvest Church
X-ORIGINAL-URL:https://goharvest.org
X-WR-CALDESC:Events for Harvest Church
REFRESH-INTERVAL;VALUE=DURATION:PT1H
X-Robots-Tag:noindex
X-PUBLISHED-TTL:PT1H
BEGIN:VTIMEZONE
TZID:America/Los_Angeles
BEGIN:DAYLIGHT
TZOFFSETFROM:-0800
TZOFFSETTO:-0700
TZNAME:PDT
DTSTART:20260308T100000
END:DAYLIGHT
BEGIN:STANDARD
TZOFFSETFROM:-0700
TZOFFSETTO:-0800
TZNAME:PST
DTSTART:20261101T090000
END:STANDARD
END:VTIMEZONE
BEGIN:VEVENT
DTSTART;TZID=America/Los_Angeles:20260430T120000
DTEND;TZID=America/Los_Angeles:20260430T140000
DTSTAMP:20260424T035619
CREATED:20260405T064132Z
LAST-MODIFIED:20260416T184949Z
UID:19918-1777550400-1777557600@goharvest.org
SUMMARY:Seasoned Saints & Sandwiches
DESCRIPTION:Save the date! If you are ages 55+\, join us on Thursday\, April 30th at 12 noon for a meal together\, worship\, and fellowship. More information to come.
URL:https://goharvest.org/event/aic-seasoned-saints-sandwiches/
CATEGORIES:Events
END:VEVENT
END:VCALENDAR